0.00000000000000
0.10000000000000
0.10000000000000
-0.00000000000000
709186.44986900699000
251691.80093004979000
