-0.00000000000000
-0.10000000000000
-0.10000000000000
0.00000000000000
710037.55013099301000
234153.19906995021000
