-0.00000000000000
-0.10000000000000
-0.10000000000000
0.00000000000000
710011.55013099301000
238886.19906995021000
