-0.00000000000000
-0.10000000000000
-0.10000000000000
0.00000000000000
710007.55013099301000
240203.19906995021000
