-0.00000000000000
-0.10000000000000
-0.10000000000000
0.00000000000000
709979.55013099301000
246363.19906995021000
