-0.00000000000000
-0.10000000000000
-0.10000000000000
0.00000000000000
709932.55013099301000
255171.19906995021000
