-0.00000000000000
-0.10000000000000
-0.10000000000000
0.00000000000000
709936.55013099301000
255826.19906995021000
