-0.00000000000000
-0.10000000000000
-0.10000000000000
0.00000000000000
709950.55013099301000
261281.19906995021000
