0.00000000000000
0.10000000000000
0.10000000000000
-0.00000000000000
707109.44986900699000
237512.80093004979000
