0.00000000000000
0.10000000000000
0.10000000000000
-0.00000000000000
707089.44986900699000
239464.80093004979000
