0.00000000000000
0.10000000000000
0.10000000000000
-0.00000000000000
707072.44986900699000
241909.80093004979000
