0.00000000000000
0.10000000000000
0.10000000000000
-0.00000000000000
707064.44986900699000
246779.80093004979000
