0.00000000000000
0.10000000000000
0.10000000000000
-0.00000000000000
707062.44986900699000
247390.80093004979000
