0.00000000000000
0.10000000000000
0.10000000000000
-0.00000000000000
707066.44986900699000
248005.80093004979000
