0.00000000000000
0.10000000000000
0.10000000000000
-0.00000000000000
707038.44986900699000
251079.80093004979000
