0.00000000000000
0.10000000000000
0.10000000000000
-0.00000000000000
707046.44986900699000
252277.80093004979000
