0.00000000000000
0.10000000000000
0.10000000000000
-0.00000000000000
707044.44986900699000
252891.80093004979000
