0.00000000000000
0.10000000000000
0.10000000000000
-0.00000000000000
707048.44986900699000
258391.80093004979000
