0.00000000000000
0.10000000000000
0.10000000000000
-0.00000000000000
707068.44986900711000
260538.80093004979000
