0.00000000000000
0.10000000000000
0.10000000000000
-0.00000000000000
707074.44986900711000
262031.80093004979000
