-0.00000000000000
-0.10000000000000
-0.10000000000000
0.00000000000000
707840.55013099301000
236949.19906995021000
