-0.00000000000000
-0.10000000000000
-0.10000000000000
0.00000000000000
707820.55013099301000
243758.19906995021000
