-0.00000000000000
-0.10000000000000
-0.10000000000000
0.00000000000000
707812.55013099301000
246294.19906995021000
