-0.00000000000000
-0.10000000000000
-0.10000000000000
0.00000000000000
707808.55013099301000
246897.19906995021000
