-0.00000000000000
-0.10000000000000
-0.10000000000000
0.00000000000000
707810.55013099301000
248661.19906995021000
