-0.00000000000000
-0.10000000000000
-0.10000000000000
0.00000000000000
707807.55013099301000
249252.19906995021000
