-0.00000000000000
-0.10000000000000
-0.10000000000000
0.00000000000000
707783.55013099301000
253965.19906995021000
