-0.00000000000000
-0.10000000000000
-0.10000000000000
0.00000000000000
707787.55013099301000
257267.19906995021000
