-0.00000000000000
-0.10000000000000
-0.10000000000000
0.00000000000000
707810.55013099301000
261871.19906995021000
