0.00000000000000
0.10000000000000
0.10000000000000
-0.00000000000000
704892.44986900699000
232548.80093004979000
