0.00000000000000
0.10000000000000
0.10000000000000
-0.00000000000000
704896.44986900699000
234136.80093004979000
