0.00000000000000
0.10000000000000
0.10000000000000
-0.00000000000000
704860.44986900699000
240887.80093004979000
