0.00000000000000
0.10000000000000
0.10000000000000
-0.00000000000000
704868.44986900699000
243688.80093004979000
