0.00000000000000
0.10000000000000
0.10000000000000
-0.00000000000000
704840.44986900699000
249808.80093004979000
