0.00000000000000
0.10000000000000
0.10000000000000
-0.00000000000000
704852.44986900711000
260583.80093004979000
