-0.00000000000000
-0.10000000000000
-0.10000000000000
0.00000000000000
705626.55013099301000
241608.19906995021000
