-0.00000000000000
-0.10000000000000
-0.10000000000000
0.00000000000000
705606.55013099301000
243656.19906995021000
