-0.00000000000000
-0.10000000000000
-0.10000000000000
0.00000000000000
705600.55013099301000
246184.19906995021000
