-0.00000000000000
-0.10000000000000
-0.10000000000000
0.00000000000000
705598.55013099301000
246797.19906995021000
