-0.00000000000000
-0.10000000000000
-0.10000000000000
0.00000000000000
705580.55013099301000
252633.19906995021000
