-0.00000000000000
-0.10000000000000
-0.10000000000000
0.00000000000000
705574.55013099301000
255917.19906995021000
