-0.00000000000000
-0.10000000000000
-0.10000000000000
0.00000000000000
705584.55013099301000
260614.19906995021000
