-0.00000000000000
-0.10000000000000
-0.10000000000000
0.00000000000000
705594.55013099301000
261991.19906995021000
