-0.00000000000000
-0.10000000000000
-0.10000000000000
0.00000000000000
705604.55013099289000
263351.19906995021000
