-0.00000000000000
-0.10000000000000
-0.10000000000000
0.00000000000000
705602.55013099289000
264734.19906995021000
