0.00000000000000
0.10000000000000
0.10000000000000
-0.00000000000000
702708.44986900699000
232568.80093004979000
