0.00000000000000
0.10000000000000
0.10000000000000
-0.00000000000000
702691.44986900699000
240431.80093004979000
