0.00000000000000
0.10000000000000
0.10000000000000
-0.00000000000000
702678.44986900699000
243886.80093004979000
