0.00000000000000
0.10000000000000
0.10000000000000
-0.00000000000000
702671.44986900699000
245305.80093004979000
