0.00000000000000
0.10000000000000
0.10000000000000
-0.00000000000000
702680.44986900699000
247484.80093004979000
